BEGIN:VCALENDAR
VERSION:2.0
PRODID:-//Dissecting the Euphony - ECPv6.15.12.2//NONSGML v1.0//EN
CALSCALE:GREGORIAN
METHOD:PUBLISH
X-ORIGINAL-URL:https://dissectingtheeuphony.com
X-WR-CALDESC:Events for Dissecting the Euphony
REFRESH-INTERVAL;VALUE=DURATION:PT1H
X-Robots-Tag:noindex
X-PUBLISHED-TTL:PT1H
BEGIN:VTIMEZONE
TZID:Asia/Kuala_Lumpur
BEGIN:STANDARD
TZOFFSETFROM:+0800
TZOFFSETTO:+0800
TZNAME:+08
DTSTART:20250101T000000
END:STANDARD
END:VTIMEZONE
BEGIN:VEVENT
DTSTART;TZID=Asia/Kuala_Lumpur:20260117T160000
DTEND;TZID=Asia/Kuala_Lumpur:20260117T233000
DTSTAMP:20260426T003744
CREATED:20260113T153637Z
LAST-MODIFIED:20260113T153637Z
UID:5700-1768665600-1768692600@dissectingtheeuphony.com
SUMMARY:Evil Spells
DESCRIPTION:
URL:https://dissectingtheeuphony.com/event/evil-spells/
LOCATION:Garage Space Ampang\, 3A\, 2\, Jalan Excella 1\, Taman Ampang Hilir\, 68000 Ampang\, Selangor\, Ampang\, Selangor\, 68000\, Malaysia
CATEGORIES:Gig
ATTACH;FMTTYPE=image/jpeg:https://dissectingtheeuphony.com/wp-content/uploads/2026/01/Evil-Spells.jpg
END:VEVENT
BEGIN:VEVENT
DTSTART;TZID=Asia/Kuala_Lumpur:20260131T140000
DTEND;TZID=Asia/Kuala_Lumpur:20260131T233000
DTSTAMP:20260426T003744
CREATED:20260113T153204Z
LAST-MODIFIED:20260113T153204Z
UID:5697-1769868000-1769902200@dissectingtheeuphony.com
SUMMARY:Music for Palestine 3
DESCRIPTION:
URL:https://dissectingtheeuphony.com/event/music-for-palestine-3/
LOCATION:Bsync Live\, 26 Jalan Permai\, Taman Persiaran Desa\, Seputeh\, Kuala Lumpur\, 50460\, Malaysia
CATEGORIES:Gig
ATTACH;FMTTYPE=image/png:https://dissectingtheeuphony.com/wp-content/uploads/2026/01/Final-Poster-IG-FB.png
END:VEVENT
BEGIN:VEVENT
DTSTART;TZID=Asia/Kuala_Lumpur:20260207T150000
DTEND;TZID=Asia/Kuala_Lumpur:20260207T230000
DTSTAMP:20260426T003744
CREATED:20260113T155708Z
LAST-MODIFIED:20260113T155708Z
UID:5706-1770476400-1770505200@dissectingtheeuphony.com
SUMMARY:Goatlordth Black Congregation Metal Fest
DESCRIPTION:
URL:https://dissectingtheeuphony.com/event/goatlordth-black-congregation-metal-fest/
LOCATION:Petai Belalang KL\, No 112 & 114\, Wisma Hainan\, Jln Pudu\, City Centre\, 55100 Kuala Lumpur\, Wilayah Persekutuan Kuala Lumpur\, Kuala Lumpur\, 55100\, Malaysia
CATEGORIES:Gig
ATTACH;FMTTYPE=image/jpeg:https://dissectingtheeuphony.com/wp-content/uploads/2026/01/GBC.jpg
END:VEVENT
BEGIN:VEVENT
DTSTART;TZID=Asia/Kuala_Lumpur:20260214T160000
DTEND;TZID=Asia/Kuala_Lumpur:20260214T233000
DTSTAMP:20260426T003744
CREATED:20260113T155059Z
LAST-MODIFIED:20260113T155059Z
UID:5703-1771084800-1771111800@dissectingtheeuphony.com
SUMMARY:Vicious Bash
DESCRIPTION:
URL:https://dissectingtheeuphony.com/event/vicious-bash/
LOCATION:Bsync Live\, 26 Jalan Permai\, Taman Persiaran Desa\, Seputeh\, Kuala Lumpur\, 50460\, Malaysia
CATEGORIES:Gig
ATTACH;FMTTYPE=image/jpeg:https://dissectingtheeuphony.com/wp-content/uploads/2026/01/Vicious-Bash.jpg
END:VEVENT
END:VCALENDAR