BEGIN:VCALENDAR
VERSION:2.0
PRODID:-//Dissecting the Euphony - ECPv6.15.12.2//NONSGML v1.0//EN
CALSCALE:GREGORIAN
METHOD:PUBLISH
X-WR-CALNAME:Dissecting the Euphony
X-ORIGINAL-URL:https://dissectingtheeuphony.com
X-WR-CALDESC:Events for Dissecting the Euphony
REFRESH-INTERVAL;VALUE=DURATION:PT1H
X-Robots-Tag:noindex
X-PUBLISHED-TTL:PT1H
BEGIN:VTIMEZONE
TZID:Asia/Kuala_Lumpur
BEGIN:STANDARD
TZOFFSETFROM:+0800
TZOFFSETTO:+0800
TZNAME:+08
DTSTART:20240101T000000
END:STANDARD
END:VTIMEZONE
BEGIN:VEVENT
DTSTART;TZID=Asia/Kuala_Lumpur:20250510T170000
DTEND;TZID=Asia/Kuala_Lumpur:20250510T233000
DTSTAMP:20260425T055343
CREATED:20250417T095426Z
LAST-MODIFIED:20250417T095427Z
UID:5516-1746896400-1746919800@dissectingtheeuphony.com
SUMMARY:Battle of The Dragons 2025
DESCRIPTION:
URL:https://dissectingtheeuphony.com/event/battle-of-the-dragons-2025/
LOCATION:Drum Asia\, Wisma CKL\, 7-2\, Jalan 22a/70a\, Desa Sri Hartamas\, 50480 Kuala Lumpur\, Federal Territory of Kuala Lumpur\, 50480\, Malaysia
CATEGORIES:Gig
ATTACH;FMTTYPE=image/jpeg:https://dissectingtheeuphony.com/wp-content/uploads/2025/04/battle-of-dragons.jpg
END:VEVENT
BEGIN:VEVENT
DTSTART;TZID=Asia/Kuala_Lumpur:20250510T200000
DTEND;TZID=Asia/Kuala_Lumpur:20250510T235900
DTSTAMP:20260425T055343
CREATED:20250417T082540Z
LAST-MODIFIED:20250417T082540Z
UID:5496-1746907200-1746921540@dissectingtheeuphony.com
SUMMARY:Bumantara Volume 14 Mini Showcase : Infectious Maggots
DESCRIPTION:
URL:https://dissectingtheeuphony.com/event/bumantara-volume-14-mini-showcase-infectious-maggots/
LOCATION:Sarang Bunyi Studio\, 44-3 Jalan Wangsa Setia 3\, Wangsa Melawati\, Kuala Lumpur\, 53300\, Malaysia
CATEGORIES:Gig
ATTACH;FMTTYPE=image/jpeg:https://dissectingtheeuphony.com/wp-content/uploads/2025/04/Bumantara-VOL-14-1.jpg
END:VEVENT
END:VCALENDAR