BEGIN:VCALENDAR
VERSION:2.0
PRODID:-//Dissecting the Euphony - ECPv6.15.12.2//NONSGML v1.0//EN
CALSCALE:GREGORIAN
METHOD:PUBLISH
X-ORIGINAL-URL:https://dissectingtheeuphony.com
X-WR-CALDESC:Events for Dissecting the Euphony
REFRESH-INTERVAL;VALUE=DURATION:PT1H
X-Robots-Tag:noindex
X-PUBLISHED-TTL:PT1H
BEGIN:VTIMEZONE
TZID:Asia/Kuala_Lumpur
BEGIN:STANDARD
TZOFFSETFROM:+0800
TZOFFSETTO:+0800
TZNAME:+08
DTSTART:20240101T000000
END:STANDARD
END:VTIMEZONE
BEGIN:VEVENT
DTSTART;TZID=Asia/Kuala_Lumpur:20250223T200000
DTEND;TZID=Asia/Kuala_Lumpur:20250223T230000
DTSTAMP:20260425T100216
CREATED:20250220T030257Z
LAST-MODIFIED:20250220T030506Z
UID:5405-1740340800-1740351600@dissectingtheeuphony.com
SUMMARY:Wind: Accoustic Showcase
DESCRIPTION:
URL:https://dissectingtheeuphony.com/event/wind-accoustic-showcase/
LOCATION:2nd Based Thrift Store\, G-06\, LEXA RESINDENCE\, 45\, Jalan 34/26\, Wangsa Maju\, 53300 Kuala Lumpur\, Wilayah Persekutuan Kuala Lumpur\, Kuala Lumpur\, 53300\, Malaysia
CATEGORIES:Gig
ATTACH;FMTTYPE=image/jpeg:https://dissectingtheeuphony.com/wp-content/uploads/2025/02/ca1hN4jD.jpg
END:VEVENT
END:VCALENDAR