BEGIN:VCALENDAR
VERSION:2.0
PRODID:-//Dissecting the Euphony - ECPv6.15.12.2//NONSGML v1.0//EN
CALSCALE:GREGORIAN
METHOD:PUBLISH
X-ORIGINAL-URL:https://dissectingtheeuphony.com
X-WR-CALDESC:Events for Dissecting the Euphony
REFRESH-INTERVAL;VALUE=DURATION:PT1H
X-Robots-Tag:noindex
X-PUBLISHED-TTL:PT1H
BEGIN:VTIMEZONE
TZID:Asia/Kuala_Lumpur
BEGIN:STANDARD
TZOFFSETFROM:+0800
TZOFFSETTO:+0800
TZNAME:+08
DTSTART:20240101T000000
END:STANDARD
END:VTIMEZONE
BEGIN:VEVENT
DTSTART;TZID=Asia/Kuala_Lumpur:20250125T200000
DTEND;TZID=Asia/Kuala_Lumpur:20250126T000000
DTSTAMP:20260425T111849
CREATED:20250114T043201Z
LAST-MODIFIED:20250114T043201Z
UID:5367-1737835200-1737849600@dissectingtheeuphony.com
SUMMARY:Bumantara Vol. 13 : Mini Showcase Bunuhdiri
DESCRIPTION:
URL:https://dissectingtheeuphony.com/event/bumantara-vol-13-mini-showcase-bunuhdiri/
LOCATION:Sarang Bunyi Studio\, 44-3 Jalan Wangsa Setia 3\, Wangsa Melawati\, Kuala Lumpur\, 53300\, Malaysia
CATEGORIES:Gig
ATTACH;FMTTYPE=image/jpeg:https://dissectingtheeuphony.com/wp-content/uploads/2025/01/IMG_3897.jpg
END:VEVENT
END:VCALENDAR