BEGIN:VCALENDAR
VERSION:2.0
PRODID:-//Dissecting the Euphony - ECPv6.15.12.2//NONSGML v1.0//EN
CALSCALE:GREGORIAN
METHOD:PUBLISH
X-ORIGINAL-URL:https://dissectingtheeuphony.com
X-WR-CALDESC:Events for Dissecting the Euphony
REFRESH-INTERVAL;VALUE=DURATION:PT1H
X-Robots-Tag:noindex
X-PUBLISHED-TTL:PT1H
BEGIN:VTIMEZONE
TZID:Asia/Kuala_Lumpur
BEGIN:STANDARD
TZOFFSETFROM:+0800
TZOFFSETTO:+0800
TZNAME:+08
DTSTART:20240101T000000
END:STANDARD
END:VTIMEZONE
BEGIN:VEVENT
DTSTART;TZID=Asia/Kuala_Lumpur:20250124T200000
DTEND;TZID=Asia/Kuala_Lumpur:20250124T233000
DTSTAMP:20260425T111830
CREATED:20241209T015903Z
LAST-MODIFIED:20241209T015903Z
UID:5330-1737748800-1737761400@dissectingtheeuphony.com
SUMMARY:Darkness Before Dawn: Sinister LIVE in KL
DESCRIPTION:
URL:https://dissectingtheeuphony.com/event/darkness-before-dawn-sinister-live-in-kl/
CATEGORIES:Gig
ATTACH;FMTTYPE=image/jpeg:https://dissectingtheeuphony.com/wp-content/uploads/2024/12/Sinister.jpg
END:VEVENT
END:VCALENDAR