BEGIN:VCALENDAR
VERSION:2.0
PRODID:-//Dissecting the Euphony - ECPv6.15.12.2//NONSGML v1.0//EN
CALSCALE:GREGORIAN
METHOD:PUBLISH
X-ORIGINAL-URL:https://dissectingtheeuphony.com
X-WR-CALDESC:Events for Dissecting the Euphony
REFRESH-INTERVAL;VALUE=DURATION:PT1H
X-Robots-Tag:noindex
X-PUBLISHED-TTL:PT1H
BEGIN:VTIMEZONE
TZID:Asia/Kuala_Lumpur
BEGIN:STANDARD
TZOFFSETFROM:+0800
TZOFFSETTO:+0800
TZNAME:+08
DTSTART:20230101T000000
END:STANDARD
END:VTIMEZONE
BEGIN:VEVENT
DTSTART;VALUE=DATE:20240605
DTEND;VALUE=DATE:20240606
DTSTAMP:20260425T203307
CREATED:20240419T083705Z
LAST-MODIFIED:20240419T083705Z
UID:4768-1717545600-1717631999@dissectingtheeuphony.com
SUMMARY:ReputDeath ‘The Reek of Emptiness’ Asia Tour 2024
DESCRIPTION:
URL:https://dissectingtheeuphony.com/event/reputdeath-the-reek-of-emptiness-asia-tour-2024/
LOCATION:Petai Belalang KL\, No 112 & 114\, Wisma Hainan\, Jln Pudu\, City Centre\, 55100 Kuala Lumpur\, Wilayah Persekutuan Kuala Lumpur\, Kuala Lumpur\, 55100\, Malaysia
CATEGORIES:Gig
ATTACH;FMTTYPE=image/png:https://dissectingtheeuphony.com/wp-content/uploads/2024/04/Reputdeath-tour-flyers.png
END:VEVENT
END:VCALENDAR