BEGIN:VCALENDAR
VERSION:2.0
PRODID:-//Dissecting the Euphony - ECPv6.15.12.2//NONSGML v1.0//EN
CALSCALE:GREGORIAN
METHOD:PUBLISH
X-ORIGINAL-URL:https://dissectingtheeuphony.com
X-WR-CALDESC:Events for Dissecting the Euphony
REFRESH-INTERVAL;VALUE=DURATION:PT1H
X-Robots-Tag:noindex
X-PUBLISHED-TTL:PT1H
BEGIN:VTIMEZONE
TZID:Asia/Kuala_Lumpur
BEGIN:STANDARD
TZOFFSETFROM:+0800
TZOFFSETTO:+0800
TZNAME:+08
DTSTART:20220101T000000
END:STANDARD
END:VTIMEZONE
BEGIN:VEVENT
DTSTART;TZID=Asia/Kuala_Lumpur:20231210T120000
DTEND;TZID=Asia/Kuala_Lumpur:20231211T000000
DTSTAMP:20260426T040817
CREATED:20231124T061757Z
LAST-MODIFIED:20231124T061757Z
UID:4514-1702209600-1702252800@dissectingtheeuphony.com
SUMMARY:Rising Fest 6
DESCRIPTION:
URL:https://dissectingtheeuphony.com/event/rising-fest-6/
LOCATION:Angkasa Space\, 1-1\, Dataran Dwitasik\, Bandar Sri Permaisuri Cheras\, 56000 Kuala Lumpur\, Malaysia
CATEGORIES:Gig
ATTACH;FMTTYPE=image/jpeg:https://dissectingtheeuphony.com/wp-content/uploads/2023/11/E520930B-51CF-4A5F-BEE1-BBCFD8135269.jpg
END:VEVENT
END:VCALENDAR