BEGIN:VCALENDAR
VERSION:2.0
PRODID:-//Dissecting the Euphony - ECPv6.15.12.2//NONSGML v1.0//EN
CALSCALE:GREGORIAN
METHOD:PUBLISH
X-WR-CALNAME:Dissecting the Euphony
X-ORIGINAL-URL:https://dissectingtheeuphony.com
X-WR-CALDESC:Events for Dissecting the Euphony
REFRESH-INTERVAL;VALUE=DURATION:PT1H
X-Robots-Tag:noindex
X-PUBLISHED-TTL:PT1H
BEGIN:VTIMEZONE
TZID:Asia/Kuala_Lumpur
BEGIN:STANDARD
TZOFFSETFROM:+0800
TZOFFSETTO:+0800
TZNAME:+08
DTSTART:20220101T000000
END:STANDARD
END:VTIMEZONE
BEGIN:VEVENT
DTSTART;TZID=Asia/Kuala_Lumpur:20230916T160000
DTEND;TZID=Asia/Kuala_Lumpur:20230916T233000
DTSTAMP:20260426T073259
CREATED:20230912T141251Z
LAST-MODIFIED:20230912T141251Z
UID:4363-1694880000-1694907000@dissectingtheeuphony.com
SUMMARY:Hacktick's Tanjong Bintang Showcase
DESCRIPTION:
URL:https://dissectingtheeuphony.com/event/hackticks-tanjong-bintang-showcase/
LOCATION:IDEAS Kuala Lumpur\, 12\, Jln Raja Laut\, Chow Kit\, 50350 Kuala Lumpur\, Federal Territory of Kuala Lumpur\, Kuala Lumpur\, Malaysia
CATEGORIES:Gig
ATTACH;FMTTYPE=image/png:https://dissectingtheeuphony.com/wp-content/uploads/2023/09/TAPAUtix-HACKTICKs-Tanjong-Bintang-Showcase-Banner.png
END:VEVENT
END:VCALENDAR