BEGIN:VCALENDAR
VERSION:2.0
PRODID:-//Dissecting the Euphony - ECPv6.15.12.2//NONSGML v1.0//EN
CALSCALE:GREGORIAN
METHOD:PUBLISH
X-WR-CALNAME:Dissecting the Euphony
X-ORIGINAL-URL:https://dissectingtheeuphony.com
X-WR-CALDESC:Events for Dissecting the Euphony
REFRESH-INTERVAL;VALUE=DURATION:PT1H
X-Robots-Tag:noindex
X-PUBLISHED-TTL:PT1H
BEGIN:VTIMEZONE
TZID:Asia/Kuala_Lumpur
BEGIN:STANDARD
TZOFFSETFROM:+0800
TZOFFSETTO:+0800
TZNAME:+08
DTSTART:20220101T000000
END:STANDARD
END:VTIMEZONE
BEGIN:VEVENT
DTSTART;VALUE=DATE:20230624
DTEND;VALUE=DATE:20230625
DTSTAMP:20260426T112039
CREATED:20230605T133352Z
LAST-MODIFIED:20230605T133352Z
UID:3952-1687564800-1687651199@dissectingtheeuphony.com
SUMMARY:Buas Nau
DESCRIPTION:
URL:https://dissectingtheeuphony.com/event/buas-nau/
LOCATION:Bangunan MLK\, 4A\, 4B\, Kampung Jawa\, 75100 Melaka\, Malaysia
CATEGORIES:Gig
ATTACH;FMTTYPE=image/jpeg:https://dissectingtheeuphony.com/wp-content/uploads/2023/06/Fx3Cc9YaAAIt12R-1.jpeg
END:VEVENT
BEGIN:VEVENT
DTSTART;TZID=Asia/Kuala_Lumpur:20230624T140000
DTEND;TZID=Asia/Kuala_Lumpur:20230625T000000
DTSTAMP:20260426T112039
CREATED:20230605T132912Z
LAST-MODIFIED:20230605T132912Z
UID:3949-1687615200-1687651200@dissectingtheeuphony.com
SUMMARY:Transisi | Prasasti Album Launch Party
DESCRIPTION:
URL:https://dissectingtheeuphony.com/event/transisi-prasasti-album-launch-party/
LOCATION:The Paddock\, Kelana Jaya\, X-Park Sunway Serene\, 1\, Jln SS 8/6\, Sungai Way Free Trade Industrial Zone\, 47300 Petaling Jaya\, Selangor\, Malaysia
CATEGORIES:Gig
ATTACH;FMTTYPE=image/jpeg:https://dissectingtheeuphony.com/wp-content/uploads/2023/06/Fx3Cc9HaEAIsXke.jpeg
END:VEVENT
BEGIN:VEVENT
DTSTART;TZID=Asia/Kuala_Lumpur:20230624T180000
DTEND;TZID=Asia/Kuala_Lumpur:20230625T000000
DTSTAMP:20260426T112039
CREATED:20230617T143626Z
LAST-MODIFIED:20230617T143626Z
UID:4039-1687629600-1687651200@dissectingtheeuphony.com
SUMMARY:Break The Core | Vol. 1
DESCRIPTION:
URL:https://dissectingtheeuphony.com/event/break-the-core-vol-1/
LOCATION:RUMAH API\, M2-D\, 15\, Jalan Pandan Indah 4/6\, Pandan Indah\, 56100 Kuala Lumpur\, Wilayah Persekutuan Kuala Lumpur\, Pandan Indah\, Kuala Lumpur\, Malaysia
CATEGORIES:Gig
ATTACH;FMTTYPE=image/jpeg:https://dissectingtheeuphony.com/wp-content/uploads/2023/06/Break-the-Core.jpeg
END:VEVENT
END:VCALENDAR