BEGIN:VCALENDAR
VERSION:2.0
PRODID:-//Dissecting the Euphony - ECPv6.15.12.2//NONSGML v1.0//EN
CALSCALE:GREGORIAN
METHOD:PUBLISH
X-ORIGINAL-URL:https://dissectingtheeuphony.com
X-WR-CALDESC:Events for Dissecting the Euphony
REFRESH-INTERVAL;VALUE=DURATION:PT1H
X-Robots-Tag:noindex
X-PUBLISHED-TTL:PT1H
BEGIN:VTIMEZONE
TZID:Asia/Kuala_Lumpur
BEGIN:STANDARD
TZOFFSETFROM:+0800
TZOFFSETTO:+0800
TZNAME:+08
DTSTART:20220101T000000
END:STANDARD
END:VTIMEZONE
BEGIN:VEVENT
DTSTART;VALUE=DATE:20230617
DTEND;VALUE=DATE:20230618
DTSTAMP:20260426T112133
CREATED:20230605T132712Z
LAST-MODIFIED:20230605T132712Z
UID:3943-1686960000-1687046399@dissectingtheeuphony.com
SUMMARY:Iron Noise Blast | Volume 1
DESCRIPTION:
URL:https://dissectingtheeuphony.com/event/iron-noise-blast-volume-1/
LOCATION:My Studio\, 39\, Jln BRP 6/10\, Bukit Rahman Putra\, 40160 Shah Alam\, Selangor\, Malaysia
CATEGORIES:Gig
ATTACH;FMTTYPE=image/jpeg:https://dissectingtheeuphony.com/wp-content/uploads/2023/06/Fx2y_9qaMAAH258.jpeg
END:VEVENT
BEGIN:VEVENT
DTSTART;TZID=Asia/Kuala_Lumpur:20230617T160000
DTEND;TZID=Asia/Kuala_Lumpur:20230618T000000
DTSTAMP:20260426T112133
CREATED:20230605T125636Z
LAST-MODIFIED:20230605T130515Z
UID:3907-1687017600-1687046400@dissectingtheeuphony.com
SUMMARY:Kembali Showcase | Malaysia Tour 2023
DESCRIPTION:
URL:https://dissectingtheeuphony.com/event/kembali-showcase-malaysia-tour-2023/
LOCATION:Pushplay HQ\, 33A\, Jalan 1/8\, Bandar Teknologi Kajang\, 43500 Semenyih\, Selangor\, 43500\, Malaysia
CATEGORIES:Gig
ATTACH;FMTTYPE=image/jpeg:https://dissectingtheeuphony.com/wp-content/uploads/2023/06/Fx2ajyraQAA-cY8.jpeg
END:VEVENT
BEGIN:VEVENT
DTSTART;TZID=Asia/Kuala_Lumpur:20230617T190000
DTEND;TZID=Asia/Kuala_Lumpur:20230618T000000
DTSTAMP:20260426T112133
CREATED:20230605T135425Z
LAST-MODIFIED:20230605T135425Z
UID:3978-1687028400-1687046400@dissectingtheeuphony.com
SUMMARY:Every Musician Has Their Day
DESCRIPTION:
URL:https://dissectingtheeuphony.com/event/every-musician-has-their-day/
LOCATION:Grubs & Gigs\, 36 & 38\, To E1 Lebuhraya NKVE\, The Strand\, 47810 Petaling Jaya\, Selangor\, Malaysia
CATEGORIES:Gig
ATTACH;FMTTYPE=image/jpeg:https://dissectingtheeuphony.com/wp-content/uploads/2023/06/Fx24nCwaIAA7PLQ.jpeg
END:VEVENT
BEGIN:VEVENT
DTSTART;TZID=Asia/Kuala_Lumpur:20230617T190000
DTEND;TZID=Asia/Kuala_Lumpur:20230618T000000
DTSTAMP:20260426T112133
CREATED:20230605T135859Z
LAST-MODIFIED:20230605T135859Z
UID:3983-1687028400-1687046400@dissectingtheeuphony.com
SUMMARY:Hardcore for Hardcore | Volume 7
DESCRIPTION:
URL:https://dissectingtheeuphony.com/event/hardcore-for-hardcore-volume-7/
LOCATION:RUMAH API\, M2-D\, 15\, Jalan Pandan Indah 4/6\, Pandan Indah\, 56100 Kuala Lumpur\, Wilayah Persekutuan Kuala Lumpur\, Pandan Indah\, Kuala Lumpur\, Malaysia
CATEGORIES:Gig
ATTACH;FMTTYPE=image/jpeg:https://dissectingtheeuphony.com/wp-content/uploads/2023/06/Fx3R6lpaUAMgRdh.jpeg
END:VEVENT
END:VCALENDAR