BEGIN:VCALENDAR
VERSION:2.0
PRODID:-//Dissecting the Euphony - ECPv6.15.12.2//NONSGML v1.0//EN
CALSCALE:GREGORIAN
METHOD:PUBLISH
X-WR-CALNAME:Dissecting the Euphony
X-ORIGINAL-URL:https://dissectingtheeuphony.com
X-WR-CALDESC:Events for Dissecting the Euphony
REFRESH-INTERVAL;VALUE=DURATION:PT1H
X-Robots-Tag:noindex
X-PUBLISHED-TTL:PT1H
BEGIN:VTIMEZONE
TZID:Asia/Kuala_Lumpur
BEGIN:STANDARD
TZOFFSETFROM:+0800
TZOFFSETTO:+0800
TZNAME:+08
DTSTART:20220101T000000
END:STANDARD
END:VTIMEZONE
BEGIN:VEVENT
DTSTART;TZID=Asia/Kuala_Lumpur:20230611T160000
DTEND;TZID=Asia/Kuala_Lumpur:20230612T000000
DTSTAMP:20260426T112035
CREATED:20230605T134154Z
LAST-MODIFIED:20230605T134154Z
UID:3964-1686499200-1686528000@dissectingtheeuphony.com
SUMMARY:Plague of Happiness | Dominion Tour 2023
DESCRIPTION:
URL:https://dissectingtheeuphony.com/event/plague-of-happiness-dominion-tour-2023/
LOCATION:Panggung Asia\, Gombak\, 4\, Jln Gombak\, Batu 4 1/2\, 53300 Kuala Lumpur\, Wilayah Persekutuan Kuala Lumpur\, Malaysia
CATEGORIES:Gig
ATTACH;FMTTYPE=image/jpeg:https://dissectingtheeuphony.com/wp-content/uploads/2023/06/Fx21K_maQAAQNvD.jpeg
END:VEVENT
BEGIN:VEVENT
DTSTART;TZID=Asia/Kuala_Lumpur:20230611T173000
DTEND;TZID=Asia/Kuala_Lumpur:20230612T000000
DTSTAMP:20260426T112035
CREATED:20230605T135058Z
LAST-MODIFIED:20230605T135058Z
UID:3972-1686504600-1686528000@dissectingtheeuphony.com
SUMMARY:Hardcore Hues
DESCRIPTION:
URL:https://dissectingtheeuphony.com/event/hardcore-hues/
LOCATION:RUMAH API\, M2-D\, 15\, Jalan Pandan Indah 4/6\, Pandan Indah\, 56100 Kuala Lumpur\, Wilayah Persekutuan Kuala Lumpur\, Pandan Indah\, Kuala Lumpur\, Malaysia
CATEGORIES:Gig
ATTACH;FMTTYPE=image/jpeg:https://dissectingtheeuphony.com/wp-content/uploads/2023/06/Fx3POjVaQAMbcKp.jpeg
END:VEVENT
END:VCALENDAR