BEGIN:VCALENDAR
VERSION:2.0
PRODID:-//Dissecting the Euphony - ECPv6.15.12.2//NONSGML v1.0//EN
CALSCALE:GREGORIAN
METHOD:PUBLISH
X-WR-CALNAME:Dissecting the Euphony
X-ORIGINAL-URL:https://dissectingtheeuphony.com
X-WR-CALDESC:Events for Dissecting the Euphony
REFRESH-INTERVAL;VALUE=DURATION:PT1H
X-Robots-Tag:noindex
X-PUBLISHED-TTL:PT1H
BEGIN:VTIMEZONE
TZID:Asia/Kuala_Lumpur
BEGIN:STANDARD
TZOFFSETFROM:+0800
TZOFFSETTO:+0800
TZNAME:+08
DTSTART:20220101T000000
END:STANDARD
END:VTIMEZONE
BEGIN:VEVENT
DTSTART;VALUE=DATE:20230610
DTEND;VALUE=DATE:20230611
DTSTAMP:20260426T112039
CREATED:20230605T130443Z
LAST-MODIFIED:20230605T130443Z
UID:3915-1686355200-1686441599@dissectingtheeuphony.com
SUMMARY:Project Indie
DESCRIPTION:
URL:https://dissectingtheeuphony.com/event/project-indie/
LOCATION:Angguk Studio\, G-2-05\, Blok G\, Taipan 2 Damansara\, Jalan PJU 1a/3\, Ara Damansara\, 47301 Petaling Jaya\, Selangor\, Selangor\, 47301\, Malaysia
CATEGORIES:Gig
ATTACH;FMTTYPE=image/jpeg:https://dissectingtheeuphony.com/wp-content/uploads/2023/06/Fx2fQBJagAE9dVm.jpeg
END:VEVENT
BEGIN:VEVENT
DTSTART;TZID=Asia/Kuala_Lumpur:20230610T100000
DTEND;TZID=Asia/Kuala_Lumpur:20230610T220000
DTSTAMP:20260426T112039
CREATED:20230605T131222Z
LAST-MODIFIED:20230605T131222Z
UID:3923-1686391200-1686434400@dissectingtheeuphony.com
SUMMARY:Mari Jenin II
DESCRIPTION:
URL:https://dissectingtheeuphony.com/event/mari-jenin-ii/
LOCATION:Greydea Studio\, 30-1\, Jalan Wan Kadir 4\, Taman Tun Dr Ismail\, 60000 Kuala Lumpur\, Wilayah Persekutuan Kuala Lumpur\, Kuala Lumpur\, 60000
CATEGORIES:Gig
ATTACH;FMTTYPE=image/jpeg:https://dissectingtheeuphony.com/wp-content/uploads/2023/06/Fx2iNtyaMAAub2R.jpeg
END:VEVENT
BEGIN:VEVENT
DTSTART;TZID=Asia/Kuala_Lumpur:20230610T200000
DTEND;TZID=Asia/Kuala_Lumpur:20230611T000000
DTSTAMP:20260426T112039
CREATED:20230605T133652Z
LAST-MODIFIED:20230605T133652Z
UID:3961-1686427200-1686441600@dissectingtheeuphony.com
SUMMARY:Revival Party | BE.KL Launching
DESCRIPTION:
URL:https://dissectingtheeuphony.com/event/revival-party-be-kl-launching/
LOCATION:Angkasa Space\, 1-1\, Dataran Dwitasik\, Bandar Sri Permaisuri Cheras\, 56000 Kuala Lumpur\, Malaysia
CATEGORIES:Gig
ATTACH;FMTTYPE=image/jpeg:https://dissectingtheeuphony.com/wp-content/uploads/2023/06/Fx21K_daAAAG2yB.jpeg
END:VEVENT
END:VCALENDAR