BEGIN:VCALENDAR
VERSION:2.0
PRODID:-//Dissecting the Euphony - ECPv6.15.12.2//NONSGML v1.0//EN
CALSCALE:GREGORIAN
METHOD:PUBLISH
X-ORIGINAL-URL:https://dissectingtheeuphony.com
X-WR-CALDESC:Events for Dissecting the Euphony
REFRESH-INTERVAL;VALUE=DURATION:PT1H
X-Robots-Tag:noindex
X-PUBLISHED-TTL:PT1H
BEGIN:VTIMEZONE
TZID:Asia/Kuala_Lumpur
BEGIN:STANDARD
TZOFFSETFROM:+0800
TZOFFSETTO:+0800
TZNAME:+08
DTSTART:20220101T000000
END:STANDARD
END:VTIMEZONE
BEGIN:VEVENT
DTSTART;TZID=Asia/Kuala_Lumpur:20230609T203000
DTEND;TZID=Asia/Kuala_Lumpur:20230610T000000
DTSTAMP:20260426T112150
CREATED:20230605T132430Z
LAST-MODIFIED:20230605T132430Z
UID:3937-1686342600-1686355200@dissectingtheeuphony.com
SUMMARY:I Will Never Forget You | The Pop Punk Show
DESCRIPTION:
URL:https://dissectingtheeuphony.com/event/i-will-never-forget-you-the-pop-punk-show/
LOCATION:Angguk Studio\, G-2-05\, Blok G\, Taipan 2 Damansara\, Jalan PJU 1a/3\, Ara Damansara\, 47301 Petaling Jaya\, Selangor\, Selangor\, 47301\, Malaysia
CATEGORIES:Gig
ATTACH;FMTTYPE=image/jpeg:https://dissectingtheeuphony.com/wp-content/uploads/2023/06/Fx2V0YJagAIccH1.jpeg
END:VEVENT
END:VCALENDAR