BEGIN:VCALENDAR
VERSION:2.0
PRODID:-//Dissecting the Euphony - ECPv6.15.12.2//NONSGML v1.0//EN
CALSCALE:GREGORIAN
METHOD:PUBLISH
X-ORIGINAL-URL:https://dissectingtheeuphony.com
X-WR-CALDESC:Events for Dissecting the Euphony
REFRESH-INTERVAL;VALUE=DURATION:PT1H
X-Robots-Tag:noindex
X-PUBLISHED-TTL:PT1H
BEGIN:VTIMEZONE
TZID:Asia/Kuala_Lumpur
BEGIN:STANDARD
TZOFFSETFROM:+0800
TZOFFSETTO:+0800
TZNAME:+08
DTSTART:20240101T000000
END:STANDARD
END:VTIMEZONE
BEGIN:VEVENT
DTSTART;TZID=Asia/Kuala_Lumpur:20250503T140000
DTEND;TZID=Asia/Kuala_Lumpur:20250503T233000
DTSTAMP:20260425T042056
CREATED:20250417T094929Z
LAST-MODIFIED:20250417T094929Z
UID:5507-1746280800-1746315000@dissectingtheeuphony.com
SUMMARY:KL Metal Mayhem Fest 2025
DESCRIPTION:
URL:https://dissectingtheeuphony.com/event/kl-metal-mayhem-fest-2025/
LOCATION:Bsync Live\, 26 Jalan Permai\, Taman Persiaran Desa\, Seputeh\, Kuala Lumpur\, 50460\, Malaysia
CATEGORIES:Gig
ATTACH;FMTTYPE=image/jpeg:https://dissectingtheeuphony.com/wp-content/uploads/2025/04/KL-METAL-MAYHEM-2025.jpg
END:VEVENT
BEGIN:VEVENT
DTSTART;TZID=Asia/Kuala_Lumpur:20250510T170000
DTEND;TZID=Asia/Kuala_Lumpur:20250510T233000
DTSTAMP:20260425T042056
CREATED:20250417T095426Z
LAST-MODIFIED:20250417T095427Z
UID:5516-1746896400-1746919800@dissectingtheeuphony.com
SUMMARY:Battle of The Dragons 2025
DESCRIPTION:
URL:https://dissectingtheeuphony.com/event/battle-of-the-dragons-2025/
LOCATION:Drum Asia\, Wisma CKL\, 7-2\, Jalan 22a/70a\, Desa Sri Hartamas\, 50480 Kuala Lumpur\, Federal Territory of Kuala Lumpur\, 50480\, Malaysia
CATEGORIES:Gig
ATTACH;FMTTYPE=image/jpeg:https://dissectingtheeuphony.com/wp-content/uploads/2025/04/battle-of-dragons.jpg
END:VEVENT
BEGIN:VEVENT
DTSTART;TZID=Asia/Kuala_Lumpur:20250510T200000
DTEND;TZID=Asia/Kuala_Lumpur:20250510T235900
DTSTAMP:20260425T042056
CREATED:20250417T082540Z
LAST-MODIFIED:20250417T082540Z
UID:5496-1746907200-1746921540@dissectingtheeuphony.com
SUMMARY:Bumantara Volume 14 Mini Showcase : Infectious Maggots
DESCRIPTION:
URL:https://dissectingtheeuphony.com/event/bumantara-volume-14-mini-showcase-infectious-maggots/
LOCATION:Sarang Bunyi Studio\, 44-3 Jalan Wangsa Setia 3\, Wangsa Melawati\, Kuala Lumpur\, 53300\, Malaysia
CATEGORIES:Gig
ATTACH;FMTTYPE=image/jpeg:https://dissectingtheeuphony.com/wp-content/uploads/2025/04/Bumantara-VOL-14-1.jpg
END:VEVENT
BEGIN:VEVENT
DTSTART;TZID=Asia/Kuala_Lumpur:20250517T200000
DTEND;TZID=Asia/Kuala_Lumpur:20250517T233000
DTSTAMP:20260425T042056
CREATED:20250422T125224Z
LAST-MODIFIED:20250422T125224Z
UID:5532-1747512000-1747524600@dissectingtheeuphony.com
SUMMARY:Vibratory Doomsday EP Launch Party
DESCRIPTION:
URL:https://dissectingtheeuphony.com/event/vibratory-doomsday-ep-launch-party/
LOCATION:Dusthall Studio\, 6\, Lorong Kelasah 3\, Taman Kelasah\, Seberang Jaya\, Pulau Pinang\, 13700\, Malaysia
CATEGORIES:Gig,Listening Party
ATTACH;FMTTYPE=image/jpeg:https://dissectingtheeuphony.com/wp-content/uploads/2025/04/vibratory.jpg
END:VEVENT
BEGIN:VEVENT
DTSTART;TZID=Asia/Kuala_Lumpur:20250524T200000
DTEND;TZID=Asia/Kuala_Lumpur:20250524T233000
DTSTAMP:20260425T042056
CREATED:20250417T083214Z
LAST-MODIFIED:20250417T083214Z
UID:5501-1748116800-1748129400@dissectingtheeuphony.com
SUMMARY:Bumantara Volume 15 Mini Showcase & EP's Soft Launch : Exhuman
DESCRIPTION:
URL:https://dissectingtheeuphony.com/event/bumantara-volume-15-mini-showcase-eps-soft-launch-exhuman/
LOCATION:Sarang Bunyi Studio\, 44-3 Jalan Wangsa Setia 3\, Wangsa Melawati\, Kuala Lumpur\, 53300\, Malaysia
CATEGORIES:Gig,Listening Party
ATTACH;FMTTYPE=image/jpeg:https://dissectingtheeuphony.com/wp-content/uploads/2025/04/Bumantara-Vol-15.jpg
END:VEVENT
BEGIN:VEVENT
DTSTART;TZID=Asia/Kuala_Lumpur:20250524T200000
DTEND;TZID=Asia/Kuala_Lumpur:20250524T235900
DTSTAMP:20260425T042056
CREATED:20250508T135618Z
LAST-MODIFIED:20250508T135618Z
UID:5546-1748116800-1748131140@dissectingtheeuphony.com
SUMMARY:Ambiearn's Particular Chamber 6
DESCRIPTION:
URL:https://dissectingtheeuphony.com/event/ambiearns-particular-chamber-6/
LOCATION:Petai Belalang KL\, No 112 & 114\, Wisma Hainan\, Jln Pudu\, City Centre\, 55100 Kuala Lumpur\, Wilayah Persekutuan Kuala Lumpur\, Kuala Lumpur\, 55100\, Malaysia
CATEGORIES:Gig
ATTACH;FMTTYPE=image/jpeg:https://dissectingtheeuphony.com/wp-content/uploads/2025/05/Ambiearn-Particular-Chamber-6-scaled.jpg
END:VEVENT
BEGIN:VEVENT
DTSTART;TZID=Asia/Kuala_Lumpur:20250531T110000
DTEND;TZID=Asia/Kuala_Lumpur:20250531T235900
DTSTAMP:20260425T042056
CREATED:20250508T135054Z
LAST-MODIFIED:20250508T135054Z
UID:5541-1748689200-1748735940@dissectingtheeuphony.com
SUMMARY:Transcend : Crazy Grizzly Album Tour (Johor)
DESCRIPTION:
URL:https://dissectingtheeuphony.com/event/transcend-crazy-grizzly-album-tour-johor/
LOCATION:Pasar Awam Kluang\, Jalan Berangan\, Taman Sri Mernanti\, Kluang\, Johor\, 86000\, Malaysia
CATEGORIES:Gig
ATTACH;FMTTYPE=image/jpeg:https://dissectingtheeuphony.com/wp-content/uploads/2025/05/Transcend-Crazy-Grizzly.jpg
END:VEVENT
BEGIN:VEVENT
DTSTART;TZID=Asia/Kuala_Lumpur:20250531T143000
DTEND;TZID=Asia/Kuala_Lumpur:20250531T233000
DTSTAMP:20260425T042056
CREATED:20250421T163051Z
LAST-MODIFIED:20250421T163051Z
UID:5524-1748701800-1748734200@dissectingtheeuphony.com
SUMMARY:Weekend Blast Party
DESCRIPTION:
URL:https://dissectingtheeuphony.com/event/weekend-blast-party/
LOCATION:Mugo x Masterpiece\, No. 8A-1\, Jalan KIP Utama\, Taman KIP Utama\, 75250\, Melaka\, Melaka\, Melaka\, 75250\, Malaysia
CATEGORIES:Gig
ATTACH;FMTTYPE=image/jpeg:https://dissectingtheeuphony.com/wp-content/uploads/2025/04/weekend-blast-melake.jpg
END:VEVENT
END:VCALENDAR