BEGIN:VCALENDAR
VERSION:2.0
PRODID:-//Dissecting the Euphony - ECPv6.15.12.2//NONSGML v1.0//EN
CALSCALE:GREGORIAN
METHOD:PUBLISH
X-WR-CALNAME:Dissecting the Euphony
X-ORIGINAL-URL:https://dissectingtheeuphony.com
X-WR-CALDESC:Events for Dissecting the Euphony
REFRESH-INTERVAL;VALUE=DURATION:PT1H
X-Robots-Tag:noindex
X-PUBLISHED-TTL:PT1H
BEGIN:VTIMEZONE
TZID:Asia/Kuala_Lumpur
BEGIN:STANDARD
TZOFFSETFROM:+0800
TZOFFSETTO:+0800
TZNAME:+08
DTSTART:20240101T000000
END:STANDARD
END:VTIMEZONE
BEGIN:VEVENT
DTSTART;TZID=Asia/Kuala_Lumpur:20250208T120000
DTEND;TZID=Asia/Kuala_Lumpur:20250209T000000
DTSTAMP:20260425T082621
CREATED:20250114T094002Z
LAST-MODIFIED:20250114T094102Z
UID:5377-1739016000-1739059200@dissectingtheeuphony.com
SUMMARY:Loud Blast Fest
DESCRIPTION:
URL:https://dissectingtheeuphony.com/event/loud-blast-fest/
LOCATION:Panggung Asia\, Gombak\, 4\, Jln Gombak\, Batu 4 1/2\, 53300 Kuala Lumpur\, Wilayah Persekutuan Kuala Lumpur\, Malaysia
CATEGORIES:Gig
ATTACH;FMTTYPE=image/jpeg:https://dissectingtheeuphony.com/wp-content/uploads/2025/01/IMG_4365.jpg
END:VEVENT
BEGIN:VEVENT
DTSTART;TZID=Asia/Kuala_Lumpur:20250209T190000
DTEND;TZID=Asia/Kuala_Lumpur:20250209T233000
DTSTAMP:20260425T082621
CREATED:20250128T092941Z
LAST-MODIFIED:20250128T092941Z
UID:5382-1739127600-1739143800@dissectingtheeuphony.com
SUMMARY:The Deadly Show Vol 5
DESCRIPTION:
URL:https://dissectingtheeuphony.com/event/the-deadly-show-vol-5/
LOCATION:Petai Belalang KL\, No 112 & 114\, Wisma Hainan\, Jln Pudu\, City Centre\, 55100 Kuala Lumpur\, Wilayah Persekutuan Kuala Lumpur\, Kuala Lumpur\, 55100\, Malaysia
CATEGORIES:Gig
ATTACH;FMTTYPE=image/jpeg:https://dissectingtheeuphony.com/wp-content/uploads/2025/01/IMG_4863.jpg
END:VEVENT
BEGIN:VEVENT
DTSTART;TZID=Asia/Kuala_Lumpur:20250215T150000
DTEND;TZID=Asia/Kuala_Lumpur:20250215T230000
DTSTAMP:20260425T082621
CREATED:20250114T035234Z
LAST-MODIFIED:20250114T035234Z
UID:5358-1739631600-1739660400@dissectingtheeuphony.com
SUMMARY:Goatlordth Black Congregation 2025
DESCRIPTION:
URL:https://dissectingtheeuphony.com/event/goatlordth-black-congregation-2025/
LOCATION:Petai Belalang KL\, No 112 & 114\, Wisma Hainan\, Jln Pudu\, City Centre\, 55100 Kuala Lumpur\, Wilayah Persekutuan Kuala Lumpur\, Kuala Lumpur\, 55100\, Malaysia
CATEGORIES:Gig
ATTACH;FMTTYPE=image/jpeg:https://dissectingtheeuphony.com/wp-content/uploads/2025/01/GBC.jpeg
END:VEVENT
BEGIN:VEVENT
DTSTART;TZID=Asia/Kuala_Lumpur:20250222T200000
DTEND;TZID=Asia/Kuala_Lumpur:20250222T230000
DTSTAMP:20260425T082621
CREATED:20250114T041538Z
LAST-MODIFIED:20250114T041538Z
UID:5361-1740254400-1740265200@dissectingtheeuphony.com
SUMMARY:Embalmed Mortuus #2
DESCRIPTION:
URL:https://dissectingtheeuphony.com/event/embalmed-mortuus-2/
LOCATION:Petai Belalang KL\, No 112 & 114\, Wisma Hainan\, Jln Pudu\, City Centre\, 55100 Kuala Lumpur\, Wilayah Persekutuan Kuala Lumpur\, Kuala Lumpur\, 55100\, Malaysia
CATEGORIES:Gig
ATTACH;FMTTYPE=image/png:https://dissectingtheeuphony.com/wp-content/uploads/2025/01/Embalmed-Mortuus-2-flyer.png
END:VEVENT
BEGIN:VEVENT
DTSTART;TZID=Asia/Kuala_Lumpur:20250223T200000
DTEND;TZID=Asia/Kuala_Lumpur:20250223T230000
DTSTAMP:20260425T082621
CREATED:20250220T030257Z
LAST-MODIFIED:20250220T030506Z
UID:5405-1740340800-1740351600@dissectingtheeuphony.com
SUMMARY:Wind: Accoustic Showcase
DESCRIPTION:
URL:https://dissectingtheeuphony.com/event/wind-accoustic-showcase/
LOCATION:2nd Based Thrift Store\, G-06\, LEXA RESINDENCE\, 45\, Jalan 34/26\, Wangsa Maju\, 53300 Kuala Lumpur\, Wilayah Persekutuan Kuala Lumpur\, Kuala Lumpur\, 53300\, Malaysia
CATEGORIES:Gig
ATTACH;FMTTYPE=image/jpeg:https://dissectingtheeuphony.com/wp-content/uploads/2025/02/ca1hN4jD.jpg
END:VEVENT
END:VCALENDAR