BEGIN:VCALENDAR
VERSION:2.0
PRODID:-//Dissecting the Euphony - ECPv6.15.12.2//NONSGML v1.0//EN
CALSCALE:GREGORIAN
METHOD:PUBLISH
X-WR-CALNAME:Dissecting the Euphony
X-ORIGINAL-URL:https://dissectingtheeuphony.com
X-WR-CALDESC:Events for Dissecting the Euphony
REFRESH-INTERVAL;VALUE=DURATION:PT1H
X-Robots-Tag:noindex
X-PUBLISHED-TTL:PT1H
BEGIN:VTIMEZONE
TZID:Asia/Kuala_Lumpur
BEGIN:STANDARD
TZOFFSETFROM:+0800
TZOFFSETTO:+0800
TZNAME:+08
DTSTART:20230101T000000
END:STANDARD
END:VTIMEZONE
BEGIN:VEVENT
DTSTART;TZID=Asia/Kuala_Lumpur:20240525T190000
DTEND;TZID=Asia/Kuala_Lumpur:20240526T000000
DTSTAMP:20260425T202925
CREATED:20240515T132512Z
LAST-MODIFIED:20240515T132512Z
UID:4813-1716663600-1716681600@dissectingtheeuphony.com
SUMMARY:An Honest Mistake: The Lonely Hearts Club LIVE at Moutou KL
DESCRIPTION:
URL:https://dissectingtheeuphony.com/event/an-honest-mistake-the-lonely-hearts-club-live-at-moutou-kl/
LOCATION:Moutou.KL\, Lorong Panggung\, City Centre\, 50000 Kuala Lumpur\, Wilayah Persekutuan Kuala Lumpur\, Malaysia
CATEGORIES:Gig
ATTACH;FMTTYPE=image/png:https://dissectingtheeuphony.com/wp-content/uploads/2024/05/Moutou-gig_ig-post.png
END:VEVENT
END:VCALENDAR