BEGIN:VCALENDAR
VERSION:2.0
PRODID:-//Dissecting the Euphony - ECPv6.15.12.2//NONSGML v1.0//EN
CALSCALE:GREGORIAN
METHOD:PUBLISH
X-WR-CALNAME:Dissecting the Euphony
X-ORIGINAL-URL:https://dissectingtheeuphony.com
X-WR-CALDESC:Events for Dissecting the Euphony
REFRESH-INTERVAL;VALUE=DURATION:PT1H
X-Robots-Tag:noindex
X-PUBLISHED-TTL:PT1H
BEGIN:VTIMEZONE
TZID:Asia/Kuala_Lumpur
BEGIN:STANDARD
TZOFFSETFROM:+0800
TZOFFSETTO:+0800
TZNAME:+08
DTSTART:20220101T000000
END:STANDARD
END:VTIMEZONE
BEGIN:VEVENT
DTSTART;TZID=Asia/Kuala_Lumpur:20231202T170000
DTEND;TZID=Asia/Kuala_Lumpur:20231203T000000
DTSTAMP:20260426T025337
CREATED:20231124T031228Z
LAST-MODIFIED:20231124T031228Z
UID:4511-1701536400-1701561600@dissectingtheeuphony.com
SUMMARY:Extreme Ladies Party
DESCRIPTION:
URL:https://dissectingtheeuphony.com/event/extreme-ladies-party/
LOCATION:Angguk Studio\, G-2-05\, Blok G\, Taipan 2 Damansara\, Jalan PJU 1a/3\, Ara Damansara\, 47301 Petaling Jaya\, Selangor\, Selangor\, 47301\, Malaysia
CATEGORIES:Gig
ATTACH;FMTTYPE=image/jpeg:https://dissectingtheeuphony.com/wp-content/uploads/2023/11/EXTEME-LADIES-PARTY-FULL-POSTER-01-scaled.jpeg
END:VEVENT
BEGIN:VEVENT
DTSTART;TZID=Asia/Kuala_Lumpur:20231203T150000
DTEND;TZID=Asia/Kuala_Lumpur:20231204T000000
DTSTAMP:20260426T025337
CREATED:20231124T030812Z
LAST-MODIFIED:20231124T030812Z
UID:4508-1701615600-1701648000@dissectingtheeuphony.com
SUMMARY:A.C.A.B 'Bangun' Showcase 2023
DESCRIPTION:
URL:https://dissectingtheeuphony.com/event/a-c-a-b-bangun-showcase-2023/
LOCATION:Bentley Music Auditorium\, 4th Floor\, Bentley Music [Main Showroom ~ Mutiara Damansara]\, 3\, Jalan PJU 7/2\, Mutiara Damansara\, 47810 Petaling Jaya\, Selangor\, Malaysia
CATEGORIES:Gig
ATTACH;FMTTYPE=image/jpeg:https://dissectingtheeuphony.com/wp-content/uploads/2023/11/Poster-BANGUN_small.jpg
END:VEVENT
BEGIN:VEVENT
DTSTART;TZID=Asia/Kuala_Lumpur:20231210T120000
DTEND;TZID=Asia/Kuala_Lumpur:20231211T000000
DTSTAMP:20260426T025337
CREATED:20231124T061757Z
LAST-MODIFIED:20231124T061757Z
UID:4514-1702209600-1702252800@dissectingtheeuphony.com
SUMMARY:Rising Fest 6
DESCRIPTION:
URL:https://dissectingtheeuphony.com/event/rising-fest-6/
LOCATION:Angkasa Space\, 1-1\, Dataran Dwitasik\, Bandar Sri Permaisuri Cheras\, 56000 Kuala Lumpur\, Malaysia
CATEGORIES:Gig
ATTACH;FMTTYPE=image/jpeg:https://dissectingtheeuphony.com/wp-content/uploads/2023/11/E520930B-51CF-4A5F-BEE1-BBCFD8135269.jpg
END:VEVENT
BEGIN:VEVENT
DTSTART;VALUE=DATE:20231216
DTEND;VALUE=DATE:20231218
DTSTAMP:20260426T025337
CREATED:20231126T134359Z
LAST-MODIFIED:20231126T134359Z
UID:4519-1702684800-1702857599@dissectingtheeuphony.com
SUMMARY:Rock The World 2023
DESCRIPTION:
URL:https://dissectingtheeuphony.com/event/rock-the-world-2023/
LOCATION:KL Base\, Jalan Lapangan Terbang Lama\, Pengkalan Tentera Udara Diraja Malaysia\, 50460 Kuala Lumpur\, Wilayah Persekutuan Kuala Lumpur\, Kuala Lumpur\, 50460\, Malaysia
CATEGORIES:Gig
ATTACH;FMTTYPE=image/jpeg:https://dissectingtheeuphony.com/wp-content/uploads/2023/11/RTW2023-LINE-UP-VER5.jpeg
END:VEVENT
END:VCALENDAR