BEGIN:VCALENDAR
VERSION:2.0
PRODID:-//Dissecting the Euphony - ECPv6.15.12.2//NONSGML v1.0//EN
CALSCALE:GREGORIAN
METHOD:PUBLISH
X-WR-CALNAME:Dissecting the Euphony
X-ORIGINAL-URL:https://dissectingtheeuphony.com
X-WR-CALDESC:Events for Dissecting the Euphony
REFRESH-INTERVAL;VALUE=DURATION:PT1H
X-Robots-Tag:noindex
X-PUBLISHED-TTL:PT1H
BEGIN:VTIMEZONE
TZID:Asia/Kuala_Lumpur
BEGIN:STANDARD
TZOFFSETFROM:+0800
TZOFFSETTO:+0800
TZNAME:+08
DTSTART:20220101T000000
END:STANDARD
END:VTIMEZONE
BEGIN:VEVENT
DTSTART;TZID=Asia/Kuala_Lumpur:20231112T120000
DTEND;TZID=Asia/Kuala_Lumpur:20231113T000000
DTSTAMP:20260426T040640
CREATED:20230928T135405Z
LAST-MODIFIED:20230928T135405Z
UID:4432-1699790400-1699833600@dissectingtheeuphony.com
SUMMARY:Face Your Fears #3
DESCRIPTION:
URL:https://dissectingtheeuphony.com/event/face-your-fears-3/
LOCATION:Illusion Art Museum\, Ba Zhong Commercial Center\, TB 4533 BLOCK G\, LOT 58\, TINGKAT 1\, BA ZHONG COMMERCIAL CENTRE\, Jalan Tawau Lama\, 91000 Tawau\, Sabah\, Malaysia
CATEGORIES:Gig
ATTACH;FMTTYPE=image/jpeg:https://dissectingtheeuphony.com/wp-content/uploads/2023/09/IMG_3829.jpg
END:VEVENT
END:VCALENDAR