BEGIN:VCALENDAR
VERSION:2.0
PRODID:-//Dissecting the Euphony - ECPv6.15.12.2//NONSGML v1.0//EN
CALSCALE:GREGORIAN
METHOD:PUBLISH
X-WR-CALNAME:Dissecting the Euphony
X-ORIGINAL-URL:https://dissectingtheeuphony.com
X-WR-CALDESC:Events for Dissecting the Euphony
REFRESH-INTERVAL;VALUE=DURATION:PT1H
X-Robots-Tag:noindex
X-PUBLISHED-TTL:PT1H
BEGIN:VTIMEZONE
TZID:Asia/Kuala_Lumpur
BEGIN:STANDARD
TZOFFSETFROM:+0800
TZOFFSETTO:+0800
TZNAME:+08
DTSTART:20220101T000000
END:STANDARD
END:VTIMEZONE
BEGIN:VEVENT
DTSTART;TZID=Asia/Kuala_Lumpur:20231007T143000
DTEND;TZID=Asia/Kuala_Lumpur:20231008T143000
DTSTAMP:20260426T050747
CREATED:20230928T133623Z
LAST-MODIFIED:20230928T133623Z
UID:4423-1696689000-1696775400@dissectingtheeuphony.com
SUMMARY:October Fog Chapter 2
DESCRIPTION:
URL:https://dissectingtheeuphony.com/event/october-fog-chapter-2/
LOCATION:Insider Satellite\, 16 12\, Jalan Che Tak\, Taman Jubilee\, 30300 Ipoh\, Perak\, Ipoh\, Perak\, 30300\, Malaysia
CATEGORIES:Gig
ATTACH;FMTTYPE=image/jpeg:https://dissectingtheeuphony.com/wp-content/uploads/2023/09/October-Fog.jpeg
END:VEVENT
BEGIN:VEVENT
DTSTART;TZID=Asia/Kuala_Lumpur:20231013T120000
DTEND;TZID=Asia/Kuala_Lumpur:20231015T000000
DTSTAMP:20260426T050747
CREATED:20230928T132007Z
LAST-MODIFIED:20230928T132007Z
UID:4418-1697198400-1697328000@dissectingtheeuphony.com
SUMMARY:Paka Alive IV
DESCRIPTION:
URL:https://dissectingtheeuphony.com/event/paka-alive-iv/
LOCATION:Dungun Escapade Resort\, Lot 6130\, Kawasan Industri\, Kampung Pulau Serai\, 23000 Kuala Dungun\, Terengganu\, Malaysia
CATEGORIES:Gig
ATTACH;FMTTYPE=image/jpeg:https://dissectingtheeuphony.com/wp-content/uploads/2023/09/Paka-Alive-IV.jpeg
END:VEVENT
BEGIN:VEVENT
DTSTART;TZID=Asia/Kuala_Lumpur:20231014T173000
DTEND;TZID=Asia/Kuala_Lumpur:20231015T173000
DTSTAMP:20260426T050747
CREATED:20230928T130316Z
LAST-MODIFIED:20230928T130316Z
UID:4410-1697304600-1697391000@dissectingtheeuphony.com
SUMMARY:Chance To Express
DESCRIPTION:
URL:https://dissectingtheeuphony.com/event/chance-to-express/
LOCATION:Echo Chamber\, 30\, Jln USJ 9/5N\, Subang Business Centre\, 47620 Subang Jaya\, Selangor\, Malaysia
CATEGORIES:Gig
ATTACH;FMTTYPE=image/jpeg:https://dissectingtheeuphony.com/wp-content/uploads/2023/09/Chance-to-Express.jpg
END:VEVENT
BEGIN:VEVENT
DTSTART;TZID=Asia/Kuala_Lumpur:20231014T180000
DTEND;TZID=Asia/Kuala_Lumpur:20231015T000000
DTSTAMP:20260426T050747
CREATED:20230929T012315Z
LAST-MODIFIED:20230929T012315Z
UID:4442-1697306400-1697328000@dissectingtheeuphony.com
SUMMARY:The Lonely Hearts Club
DESCRIPTION:
URL:https://dissectingtheeuphony.com/event/the-lonely-hearts-club/
LOCATION:HAUS Kuching\, Lot 4766 & 4767\, Jalan Kwong Lee Bank City Square\, Pending Heights I\, 64\, Jalan Pending\, KTLD\, 93450 Kuching\, Sarawak\, Malaysia
CATEGORIES:Gig
ATTACH;FMTTYPE=image/png:https://dissectingtheeuphony.com/wp-content/uploads/2023/09/POSTER.png
END:VEVENT
BEGIN:VEVENT
DTSTART;TZID=Asia/Kuala_Lumpur:20231014T200000
DTEND;TZID=Asia/Kuala_Lumpur:20231015T000000
DTSTAMP:20260426T050747
CREATED:20230928T142622Z
LAST-MODIFIED:20230928T142622Z
UID:4438-1697313600-1697328000@dissectingtheeuphony.com
SUMMARY:Ubat Rindu
DESCRIPTION:
URL:https://dissectingtheeuphony.com/event/ubat-rindu/
LOCATION:Live Fact\, Kuala Lumpur\, Malaysia
CATEGORIES:Gig
ATTACH;FMTTYPE=image/png:https://dissectingtheeuphony.com/wp-content/uploads/2023/09/UBAT-RINDU-Instagram-Post-Square.png
END:VEVENT
BEGIN:VEVENT
DTSTART;TZID=Asia/Kuala_Lumpur:20231021T190000
DTEND;TZID=Asia/Kuala_Lumpur:20231022T000000
DTSTAMP:20260426T050747
CREATED:20230928T131036Z
LAST-MODIFIED:20230928T131055Z
UID:4414-1697914800-1697932800@dissectingtheeuphony.com
SUMMARY:Revenge Is Smooth\, Revenge Is Heated
DESCRIPTION:
URL:https://dissectingtheeuphony.com/event/revenge-is-smooth/
LOCATION:Angguk Studio\, G-2-05\, Blok G\, Taipan 2 Damansara\, Jalan PJU 1a/3\, Ara Damansara\, 47301 Petaling Jaya\, Selangor\, Selangor\, 47301\, Malaysia
CATEGORIES:Gig
ATTACH;FMTTYPE=image/jpeg:https://dissectingtheeuphony.com/wp-content/uploads/2023/09/Revenge-is-Smooth.jpg
END:VEVENT
BEGIN:VEVENT
DTSTART;TZID=Asia/Kuala_Lumpur:20231028T180000
DTEND;TZID=Asia/Kuala_Lumpur:20231029T170000
DTSTAMP:20260426T050747
CREATED:20230928T134630Z
LAST-MODIFIED:20230928T134630Z
UID:4428-1698516000-1698598800@dissectingtheeuphony.com
SUMMARY:Hitam Hitam Kaos
DESCRIPTION:
URL:https://dissectingtheeuphony.com/event/hitam-hitam-kaos/
LOCATION:Ladyboss\, 2A\, Medan Bercham Selatan 1\, Taman Shukor\, 31400 Ipoh\, Perak\, Malaysia
CATEGORIES:Gig
ATTACH;FMTTYPE=image/jpeg:https://dissectingtheeuphony.com/wp-content/uploads/2023/09/Hitam-Hitam-Kaos.jpeg
END:VEVENT
END:VCALENDAR