BEGIN:VCALENDAR
VERSION:2.0
PRODID:-//Dissecting the Euphony - ECPv6.15.12.2//NONSGML v1.0//EN
CALSCALE:GREGORIAN
METHOD:PUBLISH
X-ORIGINAL-URL:https://dissectingtheeuphony.com
X-WR-CALDESC:Events for Dissecting the Euphony
REFRESH-INTERVAL;VALUE=DURATION:PT1H
X-Robots-Tag:noindex
X-PUBLISHED-TTL:PT1H
BEGIN:VTIMEZONE
TZID:Asia/Kuala_Lumpur
BEGIN:STANDARD
TZOFFSETFROM:+0800
TZOFFSETTO:+0800
TZNAME:+08
DTSTART:20220101T000000
END:STANDARD
END:VTIMEZONE
BEGIN:VEVENT
DTSTART;VALUE=DATE:20230902
DTEND;VALUE=DATE:20230903
DTSTAMP:20260426T061555
CREATED:20230605T131610Z
LAST-MODIFIED:20230605T131610Z
UID:3928-1693612800-1693699199@dissectingtheeuphony.com
SUMMARY:Damned Nation Volume 3
DESCRIPTION:
URL:https://dissectingtheeuphony.com/event/damned-nation-volume-3/
LOCATION:Angguk Studio\, G-2-05\, Blok G\, Taipan 2 Damansara\, Jalan PJU 1a/3\, Ara Damansara\, 47301 Petaling Jaya\, Selangor\, Selangor\, 47301\, Malaysia
CATEGORIES:Gig
ATTACH;FMTTYPE=image/jpeg:https://dissectingtheeuphony.com/wp-content/uploads/2023/06/Fx2mi8_aQAAo2vI.jpeg
END:VEVENT
BEGIN:VEVENT
DTSTART;TZID=Asia/Kuala_Lumpur:20230916T160000
DTEND;TZID=Asia/Kuala_Lumpur:20230916T233000
DTSTAMP:20260426T061555
CREATED:20230912T141251Z
LAST-MODIFIED:20230912T141251Z
UID:4363-1694880000-1694907000@dissectingtheeuphony.com
SUMMARY:Hacktick's Tanjong Bintang Showcase
DESCRIPTION:
URL:https://dissectingtheeuphony.com/event/hackticks-tanjong-bintang-showcase/
LOCATION:IDEAS Kuala Lumpur\, 12\, Jln Raja Laut\, Chow Kit\, 50350 Kuala Lumpur\, Federal Territory of Kuala Lumpur\, Kuala Lumpur\, Malaysia
CATEGORIES:Gig
ATTACH;FMTTYPE=image/png:https://dissectingtheeuphony.com/wp-content/uploads/2023/09/TAPAUtix-HACKTICKs-Tanjong-Bintang-Showcase-Banner.png
END:VEVENT
BEGIN:VEVENT
DTSTART;TZID=Asia/Kuala_Lumpur:20230923T200000
DTEND;TZID=Asia/Kuala_Lumpur:20230924T000000
DTSTAMP:20260426T061555
CREATED:20230920T063033Z
LAST-MODIFIED:20230920T063033Z
UID:4371-1695499200-1695513600@dissectingtheeuphony.com
SUMMARY:Transitions Official Music Video Premiere
DESCRIPTION:
URL:https://dissectingtheeuphony.com/event/transitions-official-music-video-premiere/
LOCATION:Ceruk Temu\, Space U8\, 1-05-02\, Space U8\, Persiaran Pasak Bumi\, Seksyen U8\, 40150 Shah Alam\, Selangor\, Shah Alam\, 40150\, Malaysia
CATEGORIES:Gig
ATTACH;FMTTYPE=image/jpeg:https://dissectingtheeuphony.com/wp-content/uploads/2023/09/Transitions-Viewing-Party.jpeg
END:VEVENT
BEGIN:VEVENT
DTSTART;TZID=Asia/Kuala_Lumpur:20230923T233000
DTEND;TZID=Asia/Kuala_Lumpur:20230924T233000
DTSTAMP:20260426T061555
CREATED:20230922T020026Z
LAST-MODIFIED:20230922T020117Z
UID:4382-1695511800-1695598200@dissectingtheeuphony.com
SUMMARY:Blast Week | Vol. 2
DESCRIPTION:
URL:https://dissectingtheeuphony.com/event/blast-week-vol-2/
LOCATION:RUMAH API\, M2-D\, 15\, Jalan Pandan Indah 4/6\, Pandan Indah\, 56100 Kuala Lumpur\, Wilayah Persekutuan Kuala Lumpur\, Pandan Indah\, Kuala Lumpur\, Malaysia
CATEGORIES:Gig
ATTACH;FMTTYPE=image/jpeg:https://dissectingtheeuphony.com/wp-content/uploads/2023/09/Blast-Week-Vol-2.jpg
END:VEVENT
BEGIN:VEVENT
DTSTART;TZID=Asia/Kuala_Lumpur:20230924T200000
DTEND;TZID=Asia/Kuala_Lumpur:20230925T200000
DTSTAMP:20260426T061555
CREATED:20230922T020245Z
LAST-MODIFIED:20230922T020245Z
UID:4386-1695585600-1695672000@dissectingtheeuphony.com
SUMMARY:V
DESCRIPTION:
URL:https://dissectingtheeuphony.com/event/v/
LOCATION:RUMAH API\, M2-D\, 15\, Jalan Pandan Indah 4/6\, Pandan Indah\, 56100 Kuala Lumpur\, Wilayah Persekutuan Kuala Lumpur\, Pandan Indah\, Kuala Lumpur\, Malaysia
CATEGORIES:Gig
ATTACH;FMTTYPE=image/jpeg:https://dissectingtheeuphony.com/wp-content/uploads/2023/09/V.jpg
END:VEVENT
BEGIN:VEVENT
DTSTART;TZID=Asia/Kuala_Lumpur:20230930T170000
DTEND;TZID=Asia/Kuala_Lumpur:20231001T000000
DTSTAMP:20260426T061555
CREATED:20230928T130049Z
LAST-MODIFIED:20230928T130049Z
UID:4406-1696093200-1696118400@dissectingtheeuphony.com
SUMMARY:Sour But Sweet
DESCRIPTION:
URL:https://dissectingtheeuphony.com/event/sour-but-sweet/
LOCATION:Cero’ PJ\, G-3-6\, Parklane Commercial Park\, Jalan SS 7/26\, Ss 7\, 47301 Petaling Jaya\, Selangor\, Malaysia
CATEGORIES:Gig
ATTACH;FMTTYPE=image/jpeg:https://dissectingtheeuphony.com/wp-content/uploads/2023/09/Sour-But-Sweet.jpg
END:VEVENT
END:VCALENDAR